BEGIN:VCALENDAR
VERSION:2.0
PRODID:spatie/icalendar-generator
NAME:Milwaukee Innovation Tour - THD MARKHAM - June 16\, 2026
X-WR-CALNAME:Milwaukee Innovation Tour - THD MARKHAM - June 16\, 2026
DESCRIPTION:
X-WR-CALDESC:
BEGIN:VTIMEZONE
TZID:America/Toronto
BEGIN:STANDARD
DTSTART:20251102T010000
TZOFFSETFROM:-0400
TZOFFSETTO:-0500
END:STANDARD
BEGIN:DAYLIGHT
DTSTART:20260308T010000
TZOFFSETFROM:-0500
TZOFFSETTO:-0400
END:DAYLIGHT
BEGIN:STANDARD
DTSTART:20261101T010000
TZOFFSETFROM:-0400
TZOFFSETTO:-0500
END:STANDARD
END:VTIMEZONE
BEGIN:VTIMEZONE
TZID:UTC
BEGIN:STANDARD
DTSTART:20250725T083309
TZOFFSETFROM:+0000
TZOFFSETTO:+0000
END:STANDARD
END:VTIMEZONE
BEGIN:VEVENT
UID:event-224@milwaukeethdevents.ca
DTSTAMP:20260421T083309Z
SUMMARY:Milwaukee Innovation Tour - THD MARKHAM - June 16\, 2026
DESCRIPTION:
LOCATION:3155 Highway 7\, Markham\, Ontario\, L3R 0J6
STATUS:CONFIRMED
DTSTART;TZID=America/Toronto:20260616T080000
DTEND;TZID=America/Toronto:20260616T150000
GEO:43.8480545000000034860931918956339359283447265625;-79.35239590000000475
 8112481795251369476318359375
SEQUENCE:1776760389
END:VEVENT
END:VCALENDAR