BEGIN:VCALENDAR
VERSION:2.0
PRODID:spatie/icalendar-generator
NAME:Milwaukee Innovation Tour - THD VERNON - June 12\, 2026
X-WR-CALNAME:Milwaukee Innovation Tour - THD VERNON - June 12\, 2026
DESCRIPTION:
X-WR-CALDESC:
BEGIN:VTIMEZONE
TZID:America/Toronto
BEGIN:STANDARD
DTSTART:20251102T010000
TZOFFSETFROM:-0400
TZOFFSETTO:-0500
END:STANDARD
BEGIN:DAYLIGHT
DTSTART:20260308T010000
TZOFFSETFROM:-0500
TZOFFSETTO:-0400
END:DAYLIGHT
BEGIN:STANDARD
DTSTART:20261101T010000
TZOFFSETFROM:-0400
TZOFFSETTO:-0500
END:STANDARD
END:VTIMEZONE
BEGIN:VTIMEZONE
TZID:UTC
BEGIN:STANDARD
DTSTART:20250725T083310
TZOFFSETFROM:+0000
TZOFFSETTO:+0000
END:STANDARD
END:VTIMEZONE
BEGIN:VEVENT
UID:event-214@milwaukeethdevents.ca
DTSTAMP:20260421T083310Z
SUMMARY:Milwaukee Innovation Tour - THD VERNON - June 12\, 2026
DESCRIPTION:
LOCATION:5501 Anderson Way\, Vernon\, British Columbia\, V1T 9V1
STATUS:CONFIRMED
DTSTART;TZID=America/Toronto:20260612T080000
DTEND;TZID=America/Toronto:20260612T150000
GEO:50.28745459999999667388692614622414112091064453125;-119.267673900000005
 460242391563951969146728515625
SEQUENCE:1776760390
END:VEVENT
END:VCALENDAR